Package: profileScoreDist Version: 1.34.0 Command: /home/biocbuild/R/R/bin/R CMD build --keep-empty-dirs --no-resave-data profileScoreDist StartedAt: 2025-02-11 01:38:06 -0000 (Tue, 11 Feb 2025) EndedAt: 2025-02-11 01:38:30 -0000 (Tue, 11 Feb 2025) EllapsedTime: 24.0 seconds RetCode: 0 Status: OK PackageFile: profileScoreDist_1.34.0.tar.gz PackageFileSize: 178.9 KiB