Package: profileScoreDist Version: 1.34.0 Command: rm -rf profileScoreDist.buildbin-libdir && mkdir profileScoreDist.buildbin-libdir && F:\biocbuild\bbs-3.20-bioc\R\bin\R.exe CMD INSTALL --build --library=profileScoreDist.buildbin-libdir profileScoreDist_1.34.0.tar.gz StartedAt: 2025-02-04 09:12:57 -0500 (Tue, 04 Feb 2025) EndedAt: 2025-02-04 09:15:33 -0500 (Tue, 04 Feb 2025) EllapsedTime: 156.8 seconds RetCode: 0 Status: OK PackageFile: profileScoreDist_1.34.0.zip PackageFileSize: 662.9 KiB