Package: profileScoreDist Version: 1.33.0 Command: rm -rf profileScoreDist.buildbin-libdir && mkdir profileScoreDist.buildbin-libdir && C:\Users\biocbuild\bbs-3.20-bioc\R\bin\R.exe CMD INSTALL --build --library=profileScoreDist.buildbin-libdir profileScoreDist_1.33.0.tar.gz StartedAt: 2024-07-16 06:35:16 -0400 (Tue, 16 Jul 2024) EndedAt: 2024-07-16 06:35:41 -0400 (Tue, 16 Jul 2024) EllapsedTime: 24.4 seconds RetCode: 0 Status: OK PackageFile: profileScoreDist_1.33.0.zip PackageFileSize: 661 KiB