Package: profileScoreDist Version: 1.34.0 Command: /home/biocbuild/bbs-3.20-bioc/R/bin/R CMD build --keep-empty-dirs --no-resave-data --md5 profileScoreDist StartedAt: 2025-02-03 18:47:28 -0500 (Mon, 03 Feb 2025) EndedAt: 2025-02-03 18:47:46 -0500 (Mon, 03 Feb 2025) EllapsedTime: 18.0 seconds RetCode: 0 Status: OK PackageFile: profileScoreDist_1.34.0.tar.gz PackageFileSize: 188.5 KiB