Package: profileScoreDist Version: 1.34.0 Command: /Library/Frameworks/R.framework/Resources/bin/R CMD build --keep-empty-dirs --no-resave-data profileScoreDist StartedAt: 2025-03-31 21:07:44 -0400 (Mon, 31 Mar 2025) EndedAt: 2025-03-31 21:08:28 -0400 (Mon, 31 Mar 2025) EllapsedTime: 43.3 seconds RetCode: 0 Status: OK PackageFile: profileScoreDist_1.34.0.tar.gz PackageFileSize: 186.5 KiB