Package: profileScoreDist Version: 1.34.0 Command: /home/biocbuild/R/R/bin/R CMD check --install=check:profileScoreDist.install-out.txt --library=/home/biocbuild/R/R/site-library --no-vignettes --timings profileScoreDist_1.34.0.tar.gz StartedAt: 2024-11-20 11:11:36 -0000 (Wed, 20 Nov 2024) EndedAt: 2024-11-20 11:12:08 -0000 (Wed, 20 Nov 2024) EllapsedTime: 32.0 seconds RetCode: 0 Status: OK CheckDir: profileScoreDist.Rcheck Warnings: 0