Package: profileScoreDist Version: 1.34.0 Command: /home/biocbuild/R/R/bin/R CMD build --keep-empty-dirs --no-resave-data profileScoreDist StartedAt: 2024-11-20 03:03:27 -0000 (Wed, 20 Nov 2024) EndedAt: 2024-11-20 03:03:52 -0000 (Wed, 20 Nov 2024) EllapsedTime: 25.0 seconds RetCode: 0 Status: OK PackageFile: profileScoreDist_1.34.0.tar.gz PackageFileSize: 164.4 KiB