Package: profileScoreDist Version: 1.34.0 Command: /Library/Frameworks/R.framework/Resources/bin/R CMD build --keep-empty-dirs --no-resave-data profileScoreDist StartedAt: 2025-02-04 05:48:01 -0500 (Tue, 04 Feb 2025) EndedAt: 2025-02-04 05:48:28 -0500 (Tue, 04 Feb 2025) EllapsedTime: 27.4 seconds RetCode: 0 Status: OK PackageFile: profileScoreDist_1.34.0.tar.gz PackageFileSize: 187.5 KiB