Package: profileScoreDist Version: 1.34.0 Command: rm -rf profileScoreDist.buildbin-libdir && mkdir profileScoreDist.buildbin-libdir && /Users/biocbuild/BBS/utils/build-universal.sh profileScoreDist_1.34.0.tar.gz /Library/Frameworks/R.framework/Resources/bin/R profileScoreDist.buildbin-libdir StartedAt: 2025-02-05 17:11:59 -0500 (Wed, 05 Feb 2025) EndedAt: 2025-02-05 17:12:13 -0500 (Wed, 05 Feb 2025) EllapsedTime: 13.7 seconds RetCode: 0 Status: OK PackageFile: profileScoreDist_1.34.0.tgz PackageFileSize: 354.4 KiB