Package: procoil Version: 2.34.0 Command: chmod a+r procoil -R && F:\biocbuild\bbs-3.20-bioc\R\bin\R.exe CMD build --keep-empty-dirs --no-resave-data procoil StartedAt: 2025-01-27 21:11:12 -0500 (Mon, 27 Jan 2025) EndedAt: 2025-01-27 21:12:00 -0500 (Mon, 27 Jan 2025) EllapsedTime: 48.5 seconds RetCode: 0 Status: OK PackageFile: procoil_2.34.0.tar.gz PackageFileSize: 1.264 MiB