Package: procoil Version: 2.34.0 Command: /Library/Frameworks/R.framework/Resources/bin/R CMD INSTALL procoil StartedAt: 2024-11-08 15:17:41 -0500 (Fri, 08 Nov 2024) EndedAt: 2024-11-08 15:17:50 -0500 (Fri, 08 Nov 2024) EllapsedTime: 9.9 seconds RetCode: 0 Status: OK