Package: proDA Version: 1.20.0 Command: /Library/Frameworks/R.framework/Resources/bin/R CMD INSTALL proDA StartedAt: 2025-01-30 15:18:34 -0500 (Thu, 30 Jan 2025) EndedAt: 2025-01-30 15:19:23 -0500 (Thu, 30 Jan 2025) EllapsedTime: 49.5 seconds RetCode: 0 Status: OK