Package: proDA Version: 1.20.0 Command: /Library/Frameworks/R.framework/Resources/bin/R CMD check --install=check:proDA.install-out.txt --library=/Library/Frameworks/R.framework/Resources/library --no-vignettes --timings proDA_1.20.0.tar.gz StartedAt: 2025-01-29 05:00:37 -0500 (Wed, 29 Jan 2025) EndedAt: 2025-01-29 05:05:16 -0500 (Wed, 29 Jan 2025) EllapsedTime: 278.2 seconds RetCode: 0 Status: OK CheckDir: proDA.Rcheck Warnings: 0