Package: proBAMr Version: 1.40.0 Command: chmod a+r proBAMr -R && F:\biocbuild\bbs-3.20-bioc\R\bin\R.exe CMD build --keep-empty-dirs --no-resave-data proBAMr StartedAt: 2025-02-03 21:21:14 -0500 (Mon, 03 Feb 2025) EndedAt: 2025-02-03 21:22:47 -0500 (Mon, 03 Feb 2025) EllapsedTime: 93.1 seconds RetCode: 0 Status: OK PackageFile: proBAMr_1.40.0.tar.gz PackageFileSize: 815.7 KiB