Package: proBAMr Version: 1.40.0 Command: /home/biocbuild/bbs-3.20-bioc/R/bin/R CMD INSTALL proBAMr StartedAt: 2025-03-31 15:33:27 -0400 (Mon, 31 Mar 2025) EndedAt: 2025-03-31 15:34:03 -0400 (Mon, 31 Mar 2025) EllapsedTime: 35.2 seconds RetCode: 0 Status: OK