Package: proBAMr Version: 1.40.0 Command: /Library/Frameworks/R.framework/Resources/bin/R CMD INSTALL proBAMr StartedAt: 2025-01-27 15:55:21 -0500 (Mon, 27 Jan 2025) EndedAt: 2025-01-27 15:56:36 -0500 (Mon, 27 Jan 2025) EllapsedTime: 75.5 seconds RetCode: 0 Status: OK