Package: proBAMr Version: 1.40.0 Command: /Library/Frameworks/R.framework/Resources/bin/R CMD check --install=check:proBAMr.install-out.txt --library=/Library/Frameworks/R.framework/Resources/library --no-vignettes --timings proBAMr_1.40.0.tar.gz StartedAt: 2025-01-29 04:59:42 -0500 (Wed, 29 Jan 2025) EndedAt: 2025-01-29 05:05:27 -0500 (Wed, 29 Jan 2025) EllapsedTime: 344.7 seconds RetCode: 0 Status: OK CheckDir: proBAMr.Rcheck Warnings: 0