Package: proActiv Version: 1.16.0 Command: /home/biocbuild/R/R/bin/R CMD INSTALL proActiv StartedAt: 2025-01-27 21:59:14 -0000 (Mon, 27 Jan 2025) EndedAt: 2025-01-27 22:00:03 -0000 (Mon, 27 Jan 2025) EllapsedTime: 48.6 seconds RetCode: 0 Status: OK