Package: proActiv Version: 1.16.0 Command: /home/biocbuild/R/R/bin/R CMD build --keep-empty-dirs --no-resave-data proActiv StartedAt: 2025-01-28 02:27:04 -0000 (Tue, 28 Jan 2025) EndedAt: 2025-01-28 02:28:20 -0000 (Tue, 28 Jan 2025) EllapsedTime: 76.0 seconds RetCode: 0 Status: OK PackageFile: proActiv_1.16.0.tar.gz PackageFileSize: 2.582 MiB