Package: primirTSS Version: 1.24.0 Command: /home/biocbuild/R/R/bin/R CMD check --install=check:primirTSS.install-out.txt --library=/home/biocbuild/R/R/site-library --no-vignettes --timings primirTSS_1.24.0.tar.gz StartedAt: 2025-01-28 10:08:38 -0000 (Tue, 28 Jan 2025) EndedAt: 2025-01-28 10:13:55 -0000 (Tue, 28 Jan 2025) EllapsedTime: 317.3 seconds RetCode: 0 Status: WARNINGS CheckDir: primirTSS.Rcheck Warnings: 1