Package: primirTSS Version: 1.24.0 Command: /home/biocbuild/bbs-3.20-bioc/R/bin/R CMD INSTALL primirTSS StartedAt: 2025-02-03 15:45:26 -0500 (Mon, 03 Feb 2025) EndedAt: 2025-02-03 15:46:17 -0500 (Mon, 03 Feb 2025) EllapsedTime: 51.1 seconds RetCode: 0 Status: OK