Package: primirTSS Version: 1.24.0 Command: /home/biocbuild/bbs-3.20-bioc/R/bin/R CMD check --install=check:primirTSS.install-out.txt --library=/home/biocbuild/bbs-3.20-bioc/R/site-library --timings primirTSS_1.24.0.tar.gz StartedAt: 2025-02-04 01:20:16 -0500 (Tue, 04 Feb 2025) EndedAt: 2025-02-04 01:24:47 -0500 (Tue, 04 Feb 2025) EllapsedTime: 270.3 seconds RetCode: 0 Status: WARNINGS CheckDir: primirTSS.Rcheck Warnings: 1