Package: preprocessCore Version: 1.68.0 Command: /home/biocbuild/R/R/bin/R CMD INSTALL preprocessCore StartedAt: 2025-02-10 20:08:40 -0000 (Mon, 10 Feb 2025) EndedAt: 2025-02-10 20:08:57 -0000 (Mon, 10 Feb 2025) EllapsedTime: 17.0 seconds RetCode: 0 Status: OK