Package: preprocessCore Version: 1.68.0 Command: /home/biocbuild/R/R/bin/R CMD build --keep-empty-dirs --no-resave-data preprocessCore StartedAt: 2025-02-11 01:36:51 -0000 (Tue, 11 Feb 2025) EndedAt: 2025-02-11 01:36:52 -0000 (Tue, 11 Feb 2025) EllapsedTime: 1.0 seconds RetCode: 0 Status: OK PackageFile: preprocessCore_1.68.0.tar.gz PackageFileSize: 121.2 KiB