Package: preprocessCore Version: 1.68.0 Command: /Library/Frameworks/R.framework/Resources/bin/R CMD check --install=check:preprocessCore.install-out.txt --library=/Library/Frameworks/R.framework/Resources/library --no-vignettes --timings preprocessCore_1.68.0.tar.gz StartedAt: 2024-11-20 01:19:00 -0500 (Wed, 20 Nov 2024) EndedAt: 2024-11-20 01:23:07 -0500 (Wed, 20 Nov 2024) EllapsedTime: 247.5 seconds RetCode: 0 Status: WARNINGS CheckDir: preprocessCore.Rcheck Warnings: 2