Package: preprocessCore Version: 1.68.0 Command: /Library/Frameworks/R.framework/Resources/bin/R CMD check --install=check:preprocessCore.install-out.txt --library=/Library/Frameworks/R.framework/Resources/library --no-vignettes --timings preprocessCore_1.68.0.tar.gz StartedAt: 2025-04-02 04:37:05 -0400 (Wed, 02 Apr 2025) EndedAt: 2025-04-02 04:37:29 -0400 (Wed, 02 Apr 2025) EllapsedTime: 24.1 seconds RetCode: 0 Status: WARNINGS CheckDir: preprocessCore.Rcheck Warnings: 2