Package: preprocessCore Version: 1.68.0 Command: /Library/Frameworks/R.framework/Resources/bin/R CMD build --keep-empty-dirs --no-resave-data preprocessCore StartedAt: 2025-04-01 05:21:31 -0400 (Tue, 01 Apr 2025) EndedAt: 2025-04-01 05:21:33 -0400 (Tue, 01 Apr 2025) EllapsedTime: 2.3 seconds RetCode: 0 Status: OK PackageFile: preprocessCore_1.68.0.tar.gz PackageFileSize: 121.2 KiB