Package: preciseTAD Version: 1.16.0 Command: /home/biocbuild/R/R/bin/R CMD INSTALL preciseTAD StartedAt: 2025-03-31 20:59:53 -0000 (Mon, 31 Mar 2025) EndedAt: 2025-03-31 21:00:51 -0000 (Mon, 31 Mar 2025) EllapsedTime: 58.3 seconds RetCode: 0 Status: OK