Package: preciseTAD Version: 1.16.0 Command: /home/biocbuild/R/R/bin/R CMD build --keep-empty-dirs --no-resave-data preciseTAD StartedAt: 2025-01-31 01:50:32 -0000 (Fri, 31 Jan 2025) EndedAt: 2025-01-31 01:54:55 -0000 (Fri, 31 Jan 2025) EllapsedTime: 263.3 seconds RetCode: 0 Status: OK PackageFile: preciseTAD_1.16.0.tar.gz PackageFileSize: 4.092 MiB