Package: prebs Version: 1.46.0 Command: /home/biocbuild/bbs-3.20-bioc/R/bin/R CMD INSTALL prebs StartedAt: 2025-02-03 15:56:12 -0500 (Mon, 03 Feb 2025) EndedAt: 2025-02-03 15:56:48 -0500 (Mon, 03 Feb 2025) EllapsedTime: 36.2 seconds RetCode: 0 Status: OK