Package: prebs Version: 1.46.0 Command: /home/biocbuild/bbs-3.20-bioc/R/bin/R CMD check --install=check:prebs.install-out.txt --library=/home/biocbuild/bbs-3.20-bioc/R/site-library --timings prebs_1.46.0.tar.gz StartedAt: 2025-02-04 01:19:15 -0500 (Tue, 04 Feb 2025) EndedAt: 2025-02-04 01:28:16 -0500 (Tue, 04 Feb 2025) EllapsedTime: 540.5 seconds RetCode: 0 Status: OK CheckDir: prebs.Rcheck Warnings: 0