Package: prebs Version: 1.46.0 Command: /Library/Frameworks/R.framework/Resources/bin/R CMD check --install=check:prebs.install-out.txt --library=/Library/Frameworks/R.framework/Resources/library --no-vignettes --timings prebs_1.46.0.tar.gz StartedAt: 2025-02-04 08:10:42 -0500 (Tue, 04 Feb 2025) EndedAt: 2025-02-04 08:24:10 -0500 (Tue, 04 Feb 2025) EllapsedTime: 808.4 seconds RetCode: 0 Status: OK CheckDir: prebs.Rcheck Warnings: 0