Package: pram Version: 1.22.0 Command: /home/biocbuild/R/R/bin/R CMD build --keep-empty-dirs --no-resave-data pram StartedAt: 2025-01-31 01:50:06 -0000 (Fri, 31 Jan 2025) EndedAt: 2025-01-31 01:51:02 -0000 (Fri, 31 Jan 2025) EllapsedTime: 56.1 seconds RetCode: 0 Status: OK PackageFile: pram_1.22.0.tar.gz PackageFileSize: 2.667 MiB