Package: pqsfinder Version: 2.22.0 Command: /home/biocbuild/R/R/bin/R CMD INSTALL pqsfinder StartedAt: 2025-01-27 21:10:49 -0000 (Mon, 27 Jan 2025) EndedAt: 2025-01-27 21:11:49 -0000 (Mon, 27 Jan 2025) EllapsedTime: 60.1 seconds RetCode: 0 Status: OK