Package: pqsfinder Version: 2.22.0 Command: /home/biocbuild/R/R/bin/R CMD build --keep-empty-dirs --no-resave-data pqsfinder StartedAt: 2025-04-01 01:39:36 -0000 (Tue, 01 Apr 2025) EndedAt: 2025-04-01 01:42:02 -0000 (Tue, 01 Apr 2025) EllapsedTime: 146.1 seconds RetCode: 0 Status: OK PackageFile: pqsfinder_2.22.0.tar.gz PackageFileSize: 359.7 KiB