Package: pqsfinder Version: 2.22.0 Command: F:\biocbuild\bbs-3.20-bioc\R\bin\R.exe CMD INSTALL pqsfinder StartedAt: 2025-01-27 15:41:48 -0500 (Mon, 27 Jan 2025) EndedAt: 2025-01-27 15:43:01 -0500 (Mon, 27 Jan 2025) EllapsedTime: 72.7 seconds RetCode: 0 Status: OK