Package: pqsfinder Version: 2.22.0 Command: /Library/Frameworks/R.framework/Resources/bin/R CMD build --keep-empty-dirs --no-resave-data pqsfinder StartedAt: 2025-01-27 21:37:27 -0500 (Mon, 27 Jan 2025) EndedAt: 2025-01-27 21:41:27 -0500 (Mon, 27 Jan 2025) EllapsedTime: 239.9 seconds RetCode: 0 Status: OK PackageFile: pqsfinder_2.22.0.tar.gz PackageFileSize: 377.3 KiB