Package: ppcseq Version: 1.14.0 Command: /home/biocbuild/bbs-3.20-bioc/R/bin/R CMD INSTALL ppcseq StartedAt: 2025-02-03 15:21:40 -0500 (Mon, 03 Feb 2025) EndedAt: 2025-02-03 15:23:59 -0500 (Mon, 03 Feb 2025) EllapsedTime: 138.6 seconds RetCode: 0 Status: OK