Package: ppcseq Version: 1.14.0 Command: /home/biocbuild/bbs-3.20-bioc/R/bin/R CMD build --keep-empty-dirs --no-resave-data --md5 ppcseq StartedAt: 2025-02-10 18:38:47 -0500 (Mon, 10 Feb 2025) EndedAt: 2025-02-10 18:51:40 -0500 (Mon, 10 Feb 2025) EllapsedTime: 772.9 seconds RetCode: 0 Status: OK PackageFile: ppcseq_1.14.0.tar.gz PackageFileSize: 2.04 MiB