Package: ppcseq Version: 1.14.0 Command: rm -rf ppcseq.buildbin-libdir && mkdir ppcseq.buildbin-libdir && /Users/biocbuild/BBS/utils/build-universal.sh ppcseq_1.14.0.tar.gz /Library/Frameworks/R.framework/Resources/bin/R ppcseq.buildbin-libdir StartedAt: 2025-02-11 14:09:09 -0500 (Tue, 11 Feb 2025) EndedAt: 2025-02-11 14:14:55 -0500 (Tue, 11 Feb 2025) EllapsedTime: 345.9 seconds RetCode: 0 Status: OK PackageFile: ppcseq_1.14.0.tgz PackageFileSize: 2.719 MiB