Package: ppcseq Version: 1.14.0 Command: rm -rf ppcseq.buildbin-libdir && mkdir ppcseq.buildbin-libdir && /Users/biocbuild/BBS/utils/build-universal.sh ppcseq_1.14.0.tar.gz /Library/Frameworks/R.framework/Resources/bin/R ppcseq.buildbin-libdir StartedAt: 2025-02-12 16:23:47 -0500 (Wed, 12 Feb 2025) EndedAt: 2025-02-12 16:25:58 -0500 (Wed, 12 Feb 2025) EllapsedTime: 130.5 seconds RetCode: 0 Status: OK PackageFile: ppcseq_1.14.0.tgz PackageFileSize: 2.563 MiB