Package: powerTCR Version: 1.26.0 Command: /home/biocbuild/R/R/bin/R CMD INSTALL powerTCR StartedAt: 2025-03-31 20:17:13 -0000 (Mon, 31 Mar 2025) EndedAt: 2025-03-31 20:17:38 -0000 (Mon, 31 Mar 2025) EllapsedTime: 25.4 seconds RetCode: 0 Status: OK