Package: powerTCR Version: 1.26.0 Command: rm -rf powerTCR.buildbin-libdir && mkdir powerTCR.buildbin-libdir && F:\biocbuild\bbs-3.20-bioc\R\bin\R.exe CMD INSTALL --build --library=powerTCR.buildbin-libdir powerTCR_1.26.0.tar.gz StartedAt: 2025-04-01 08:53:46 -0400 (Tue, 01 Apr 2025) EndedAt: 2025-04-01 08:54:02 -0400 (Tue, 01 Apr 2025) EllapsedTime: 16.3 seconds RetCode: 0 Status: OK PackageFile: powerTCR_1.26.0.zip PackageFileSize: 406.5 KiB