Package: powerTCR Version: 1.26.0 Command: /Library/Frameworks/R.framework/Resources/bin/R CMD check --install=check:powerTCR.install-out.txt --library=/Library/Frameworks/R.framework/Resources/library --no-vignettes --timings powerTCR_1.26.0.tar.gz StartedAt: 2025-04-02 04:29:56 -0400 (Wed, 02 Apr 2025) EndedAt: 2025-04-02 04:31:41 -0400 (Wed, 02 Apr 2025) EllapsedTime: 104.3 seconds RetCode: 0 Status: WARNINGS CheckDir: powerTCR.Rcheck Warnings: 1