Package: powerTCR Version: 1.26.0 Command: /Library/Frameworks/R.framework/Resources/bin/R CMD build --keep-empty-dirs --no-resave-data powerTCR StartedAt: 2025-04-01 05:17:07 -0400 (Tue, 01 Apr 2025) EndedAt: 2025-04-01 05:17:39 -0400 (Tue, 01 Apr 2025) EllapsedTime: 31.9 seconds RetCode: 0 Status: OK PackageFile: powerTCR_1.26.0.tar.gz PackageFileSize: 384.2 KiB