Package: polyester Version: 1.42.0 Command: F:\biocbuild\bbs-3.20-bioc\R\bin\R.exe CMD INSTALL polyester StartedAt: 2025-03-31 15:40:56 -0400 (Mon, 31 Mar 2025) EndedAt: 2025-03-31 15:41:29 -0400 (Mon, 31 Mar 2025) EllapsedTime: 33.1 seconds RetCode: 0 Status: OK