Package: polyester Version: 1.42.0 Command: /Library/Frameworks/R.framework/Resources/bin/R CMD build --keep-empty-dirs --no-resave-data polyester StartedAt: 2025-04-01 05:15:57 -0400 (Tue, 01 Apr 2025) EndedAt: 2025-04-01 05:16:35 -0400 (Tue, 01 Apr 2025) EllapsedTime: 37.7 seconds RetCode: 0 Status: OK PackageFile: polyester_1.42.0.tar.gz PackageFileSize: 1.814 MiB