Package: pogos Version: 1.26.0 Command: /home/biocbuild/bbs-3.20-bioc/R/bin/R CMD build --keep-empty-dirs --no-resave-data --md5 pogos StartedAt: 2025-03-31 18:34:24 -0400 (Mon, 31 Mar 2025) EndedAt: 2025-03-31 18:35:05 -0400 (Mon, 31 Mar 2025) EllapsedTime: 41.1 seconds RetCode: 1 Status: ERROR PackageFile: None PackageFileSize: NA