Package: pogos Version: 1.26.0 Command: /Library/Frameworks/R.framework/Resources/bin/R CMD build --keep-empty-dirs --no-resave-data pogos StartedAt: 2025-04-01 05:15:55 -0400 (Tue, 01 Apr 2025) EndedAt: 2025-04-01 05:16:47 -0400 (Tue, 01 Apr 2025) EllapsedTime: 52.6 seconds RetCode: 1 Status: ERROR PackageFile: None PackageFileSize: NA