Package: podkat Version: 1.38.0 Command: /home/biocbuild/bbs-3.20-bioc/R/bin/R CMD build --keep-empty-dirs --no-resave-data --md5 podkat StartedAt: 2025-01-30 18:36:21 -0500 (Thu, 30 Jan 2025) EndedAt: 2025-01-30 18:38:42 -0500 (Thu, 30 Jan 2025) EllapsedTime: 141.2 seconds RetCode: 0 Status: OK PackageFile: podkat_1.38.0.tar.gz PackageFileSize: 1.093 MiB